BEGIN:VCALENDAR
VERSION:2.0
PRODID:-//Greater Baltimore Committee - ECPv6.15.17.1//NONSGML v1.0//EN
CALSCALE:GREGORIAN
METHOD:PUBLISH
X-WR-CALNAME:Greater Baltimore Committee
X-ORIGINAL-URL:https://gbc.org
X-WR-CALDESC:Events for Greater Baltimore Committee
REFRESH-INTERVAL;VALUE=DURATION:PT1H
X-Robots-Tag:noindex
X-PUBLISHED-TTL:PT1H
BEGIN:VTIMEZONE
TZID:America/New_York
BEGIN:DAYLIGHT
TZOFFSETFROM:-0500
TZOFFSETTO:-0400
TZNAME:EDT
DTSTART:20250309T070000
END:DAYLIGHT
BEGIN:STANDARD
TZOFFSETFROM:-0400
TZOFFSETTO:-0500
TZNAME:EST
DTSTART:20251102T060000
END:STANDARD
BEGIN:DAYLIGHT
TZOFFSETFROM:-0500
TZOFFSETTO:-0400
TZNAME:EDT
DTSTART:20260308T070000
END:DAYLIGHT
BEGIN:STANDARD
TZOFFSETFROM:-0400
TZOFFSETTO:-0500
TZNAME:EST
DTSTART:20261101T060000
END:STANDARD
BEGIN:DAYLIGHT
TZOFFSETFROM:-0500
TZOFFSETTO:-0400
TZNAME:EDT
DTSTART:20270314T070000
END:DAYLIGHT
BEGIN:STANDARD
TZOFFSETFROM:-0400
TZOFFSETTO:-0500
TZNAME:EST
DTSTART:20271107T060000
END:STANDARD
END:VTIMEZONE
BEGIN:VEVENT
DTSTART;TZID=America/New_York:20260312T083000
DTEND;TZID=America/New_York:20260312T110000
DTSTAMP:20260425T202027
CREATED:20260209T171512Z
LAST-MODIFIED:20260304T195250Z
UID:6627-1773304200-1773313200@gbc.org
SUMMARY:All-Partner Meeting
DESCRIPTION:Join us Thursday\, March 12 for our quarterly All-Partner Meeting. GBC Partners are invited to a focused conversation with regional economic development leaders on how cross-sector collaboration with the Greater Baltimore Committee is advancing coordinated regional growth. \nThe discussion will spotlight how public\, private\, and civic partners align strategy\, capital\, and execution to move priority development projects from concept to implementation. The meeting will be held at the Pikesville Armory\, a transformative redevelopment site in Baltimore County\, highlighting the impact of place-based investment and regional collaboration. \nAttendees will gain clear insight into how these partnerships work in practice and how GBC Partners can help shape the next phase of regional growth. \nAgenda \n\n8:30AM – 9:00AM – Arrival/Check-in and light breakfast\n9:00AM – 10:00AM – Panel Discussion with Jonathan Sachs (Baltimore County Economic Development); moderated by GBC President and CEO\, Mark Anthony Thomas\n10:00AM – 11:00AM – Networking and optional tour of the Pikesville Armory site\n\nThis Partner-only event will be held in-person at the Pikesville Armory. The event will include light breakfast and networking following the program. \nPlease reach out with any questions to partner@gbc.org.
URL:https://gbc.org/event/march-all-partner-meeting/
LOCATION:Pikesville Armory\, 640 Reisterstown Rd.\, Pikesville\, MD\, 21208\, United States
CATEGORIES:Main Event
ORGANIZER;CN="Greater Baltimore Committee":MAILTO:info@gbc.org
END:VEVENT
END:VCALENDAR