BEGIN:VCALENDAR
VERSION:2.0
PRODID:-//Greater Baltimore Committee - ECPv6.15.17.1//NONSGML v1.0//EN
CALSCALE:GREGORIAN
METHOD:PUBLISH
X-ORIGINAL-URL:https://gbc.org
X-WR-CALDESC:Events for Greater Baltimore Committee
REFRESH-INTERVAL;VALUE=DURATION:PT1H
X-Robots-Tag:noindex
X-PUBLISHED-TTL:PT1H
BEGIN:VTIMEZONE
TZID:America/New_York
BEGIN:DAYLIGHT
TZOFFSETFROM:-0500
TZOFFSETTO:-0400
TZNAME:EDT
DTSTART:20240310T070000
END:DAYLIGHT
BEGIN:STANDARD
TZOFFSETFROM:-0400
TZOFFSETTO:-0500
TZNAME:EST
DTSTART:20241103T060000
END:STANDARD
BEGIN:DAYLIGHT
TZOFFSETFROM:-0500
TZOFFSETTO:-0400
TZNAME:EDT
DTSTART:20250309T070000
END:DAYLIGHT
BEGIN:STANDARD
TZOFFSETFROM:-0400
TZOFFSETTO:-0500
TZNAME:EST
DTSTART:20251102T060000
END:STANDARD
BEGIN:DAYLIGHT
TZOFFSETFROM:-0500
TZOFFSETTO:-0400
TZNAME:EDT
DTSTART:20260308T070000
END:DAYLIGHT
BEGIN:STANDARD
TZOFFSETFROM:-0400
TZOFFSETTO:-0500
TZNAME:EST
DTSTART:20261101T060000
END:STANDARD
END:VTIMEZONE
BEGIN:VEVENT
DTSTART;TZID=America/New_York:20250925T110000
DTEND;TZID=America/New_York:20250925T123000
DTSTAMP:20260424T003629
CREATED:20250922T170131Z
LAST-MODIFIED:20250922T170131Z
UID:5627-1758798000-1758803400@gbc.org
SUMMARY:GBC Briefing: Baltimore Region Economic Investment
DESCRIPTION:Open to the Public – Register Today!\n \nJoin GBC’s Chief Economic Officer\, Lakey Boyd for a conversation on how we’re evolving GBC’s Regional Economic Investment work and what you can expect from this next chapter. We will provide an overview of how the prospect pipeline functions and the state-level players’ role\, as well as the GBC Economic Investment team’s collaboration. \nGBC Briefing: Baltimore Region Economic Investment \n\nDate: Thursday\, September 25\, 2025\nTime: 11:00 AM –12:30 PM\nLocation: Hybrid; GBC Boardroom and Microsoft Teams\n\nThis will be a hybrid event with interested attendees welcome to join us at our office at 111 S Calvert St. or virtually. A virtual meeting link will be shared with all registrants prior to the event. A light lunch will be provided. \nPlease reach out with any questions to partner@gbc.org.
URL:https://gbc.org/event/gbc-briefing-baltimore-region-economic-investment/
LOCATION:Greater Baltimore Committee\, 111 South Calvert Street\, Baltimore\, MD\, 21202\, United States
CATEGORIES:Presentation
ORGANIZER;CN="Greater Baltimore Committee":MAILTO:info@gbc.org
END:VEVENT
END:VCALENDAR