BEGIN:VCALENDAR
VERSION:2.0
PRODID:-//Greater Baltimore Committee - ECPv6.15.17.1//NONSGML v1.0//EN
CALSCALE:GREGORIAN
METHOD:PUBLISH
X-ORIGINAL-URL:https://gbc.org
X-WR-CALDESC:Events for Greater Baltimore Committee
REFRESH-INTERVAL;VALUE=DURATION:PT1H
X-Robots-Tag:noindex
X-PUBLISHED-TTL:PT1H
BEGIN:VTIMEZONE
TZID:America/New_York
BEGIN:DAYLIGHT
TZOFFSETFROM:-0500
TZOFFSETTO:-0400
TZNAME:EDT
DTSTART:20250309T070000
END:DAYLIGHT
BEGIN:STANDARD
TZOFFSETFROM:-0400
TZOFFSETTO:-0500
TZNAME:EST
DTSTART:20251102T060000
END:STANDARD
BEGIN:DAYLIGHT
TZOFFSETFROM:-0500
TZOFFSETTO:-0400
TZNAME:EDT
DTSTART:20260308T070000
END:DAYLIGHT
BEGIN:STANDARD
TZOFFSETFROM:-0400
TZOFFSETTO:-0500
TZNAME:EST
DTSTART:20261101T060000
END:STANDARD
BEGIN:DAYLIGHT
TZOFFSETFROM:-0500
TZOFFSETTO:-0400
TZNAME:EDT
DTSTART:20270314T070000
END:DAYLIGHT
BEGIN:STANDARD
TZOFFSETFROM:-0400
TZOFFSETTO:-0500
TZNAME:EST
DTSTART:20271107T060000
END:STANDARD
END:VTIMEZONE
BEGIN:VEVENT
DTSTART;TZID=America/New_York:20260604T080000
DTEND;TZID=America/New_York:20260604T190000
DTSTAMP:20260423T193443
CREATED:20260415T154104Z
LAST-MODIFIED:20260415T155831Z
UID:7357-1780560000-1780599600@gbc.org
SUMMARY:Inflection Point Healthcare Summit
DESCRIPTION:The Inflection Point Healthcare Summit brings together leaders across healthcare\, technology\, and policy to explore how value-based care and emerging technologies\, including Artificial Intelligence\, are transforming healthcare delivery. With Maryland’s all-payer model as a national testbed\, the summit will focus on how aligned incentives can drive innovation\, better outcomes\, and sustainable costs. \nMaryland is in the midst of the most substantial value-based care experiment in the country\, via its all-payer system. This economic model will fund AI and other innovative healthcare technology. As Maryland succeeds\, the rest of the country will follow. \nWhy Attend?\n\nFor Health System\, Health Plan\, and Clinical leaders – The status quo in healthcare in not sustainable and the Maryland rate setting system creates unique challenges and opportunities. The inflection point summit is an opportunity to learn from your peers\, policy makers and innovators about pressures and opportunities to inform your plans for the months and years ahead.\nFor Policymakers – As representatives of patients and citizens\, this is a great opportunity to voice your positions – and pressures – to a curated audience of health system\, health plan\, business and technology leaders.\nFor Innovators – This is a unique opportunity to listen and learn about the challenges of enterprise customers and policy makers\, and about the unique opportunities afforded by the Maryland model.
URL:https://gbc.org/event/inflection-point-healthcare-summit-2026/
LOCATION:Four Seasons Hotel Baltimore\, 200 International Drive\, Baltimore\, MD\, 21201\, United States
CATEGORIES:Main Event
END:VEVENT
END:VCALENDAR