BEGIN:VCALENDAR
VERSION:2.0
PRODID:-//Greater Baltimore Committee - ECPv6.15.17.1//NONSGML v1.0//EN
CALSCALE:GREGORIAN
METHOD:PUBLISH
X-WR-CALNAME:Greater Baltimore Committee
X-ORIGINAL-URL:https://gbc.org
X-WR-CALDESC:Events for Greater Baltimore Committee
REFRESH-INTERVAL;VALUE=DURATION:PT1H
X-Robots-Tag:noindex
X-PUBLISHED-TTL:PT1H
BEGIN:VTIMEZONE
TZID:America/New_York
BEGIN:DAYLIGHT
TZOFFSETFROM:-0500
TZOFFSETTO:-0400
TZNAME:EDT
DTSTART:20240310T070000
END:DAYLIGHT
BEGIN:STANDARD
TZOFFSETFROM:-0400
TZOFFSETTO:-0500
TZNAME:EST
DTSTART:20241103T060000
END:STANDARD
BEGIN:DAYLIGHT
TZOFFSETFROM:-0500
TZOFFSETTO:-0400
TZNAME:EDT
DTSTART:20250309T070000
END:DAYLIGHT
BEGIN:STANDARD
TZOFFSETFROM:-0400
TZOFFSETTO:-0500
TZNAME:EST
DTSTART:20251102T060000
END:STANDARD
BEGIN:DAYLIGHT
TZOFFSETFROM:-0500
TZOFFSETTO:-0400
TZNAME:EDT
DTSTART:20260308T070000
END:DAYLIGHT
BEGIN:STANDARD
TZOFFSETFROM:-0400
TZOFFSETTO:-0500
TZNAME:EST
DTSTART:20261101T060000
END:STANDARD
BEGIN:DAYLIGHT
TZOFFSETFROM:-0500
TZOFFSETTO:-0400
TZNAME:EDT
DTSTART:20270314T070000
END:DAYLIGHT
BEGIN:STANDARD
TZOFFSETFROM:-0400
TZOFFSETTO:-0500
TZNAME:EST
DTSTART:20271107T060000
END:STANDARD
END:VTIMEZONE
BEGIN:VEVENT
DTSTART;TZID=America/New_York:20260204T120000
DTEND;TZID=America/New_York:20260204T133000
DTSTAMP:20260423T185811
CREATED:20260116T170453Z
LAST-MODIFIED:20260121T214900Z
UID:6456-1770206400-1770211800@gbc.org
SUMMARY:2026 Legislative Priorities Briefing
DESCRIPTION:As the Maryland General Assembly 2026 legislative session gets underway and the need for continued engagement at the federal level being paramount\, the Greater Baltimore Committee (GBC) has unveiled its legislative priorities​. Join GBC staff on Wednesday\, February 4th from 12:00-1:30pm for an opportunity to learn more about these priorities and how they align with our organization’s work as we enter the final year of the multi-year agenda. We welcome your questions and input. \n\n\nPlease note that this briefing is for GBC Partners only\, to confirm if your organization is a partner of GBC please reference: https://gbc.org/partners/​ \nA virtual link will be shared with all GBC partner registrants prior to the meeting date
URL:https://gbc.org/event/gbc-legislative-priorities-briefing/
LOCATION:MD
CATEGORIES:Presentation
END:VEVENT
BEGIN:VEVENT
DTSTART;TZID=America/New_York:20260129T080000
DTEND;TZID=America/New_York:20260129T180000
DTSTAMP:20260423T185811
CREATED:20251211T152252Z
LAST-MODIFIED:20251211T152346Z
UID:6258-1769673600-1769709600@gbc.org
SUMMARY:Meet the State 2026
DESCRIPTION:Join policymakers\, cabinet leaders and business executives for the must-attend policy event of the year — coming just one week after the Governor’s budget release. 
URL:https://gbc.org/event/meet-the-state-2026/
LOCATION:MD
END:VEVENT
BEGIN:VEVENT
DTSTART;TZID=America/New_York:20260128T170000
DTEND;TZID=America/New_York:20260128T200000
DTSTAMP:20260423T185811
CREATED:20260114T213453Z
LAST-MODIFIED:20260114T213453Z
UID:6403-1769619600-1769630400@gbc.org
SUMMARY:AI Policy in Practice: Shaping Baltimore's Innovation Future
DESCRIPTION:Join us for the launch of our new monthly event series designed to strengthen and elevate our regional innovation ecosystem where businesses\, investors and founders across industry sectors come together to learn and network. \nThis month we take a look at AI and hear from innovators\, business leaders and partners to explore the evolving impact policy and regulations are having on the development and use of artificial intelligence. \nAI Salon will host a workshop for startup founders for awareness around AI and other policies that impact startups. GBC Partners are invited and encouraged to attend as well. \nFollowing the workshop\, join for a fireside chat and Q&A\, and attendees will have the opportunity to network and make connections. \nThese monthly events will convene industry\, universities\, anchor institutions along with founders and investors to create a vital pipeline for increasing capital\, resources and opportunities for Baltimore’s entrepreneurial ecosystem. \nWhen: Wednesday\, January 28\, 2026\, 5-8 p.m. \nWhere: Spark Flex\, 621 E. Pratt St \nSponsors: AI Salon\, Developers Alliance\, The Cordish Companies\, and Spark Baltimore
URL:https://gbc.org/event/ai-policy-in-practice-shaping-baltimores-innovation-future/
LOCATION:Spark Flex\, 621 East Pratt Street\, Baltimore\, MD\, United States
CATEGORIES:Main Event
END:VEVENT
BEGIN:VEVENT
DTSTART;TZID=America/New_York:20260122T080000
DTEND;TZID=America/New_York:20260122T100000
DTSTAMP:20260423T185811
CREATED:20251210T203031Z
LAST-MODIFIED:20251210T203031Z
UID:6230-1769068800-1769076000@gbc.org
SUMMARY:ULI Baltimore Emerging Trends in Real Estate 2026
DESCRIPTION:This event will pull out the most relevant trends for the greater Baltimore market. In bringing in keynote speaker Erin McLaughlin from the conference board\, attendees will be able to hear an economist’s perspective on challenges and opportunities shaping the real estate industry in 2026. 
URL:https://gbc.org/event/uli-baltimore-emerging-trends-in-real-estate-2026/
LOCATION:Goucher College\, 1021 Dulaney Valley Road\, Towson\, MD\, 21204\, United States
CATEGORIES:Main Event
END:VEVENT
BEGIN:VEVENT
DTSTART;TZID=America/New_York:20260121T080000
DTEND;TZID=America/New_York:20260121T100000
DTSTAMP:20260423T185811
CREATED:20251210T213627Z
LAST-MODIFIED:20251210T213632Z
UID:6235-1768982400-1768989600@gbc.org
SUMMARY:Transportation Think Tank - Shannetta Griffin\, Executive Director and CEO - BWI Marshall Airport
DESCRIPTION:Join us as Shannetta Griffin\, Executive Director & CEO\, Maryland Aviation Administration\, offers important information about the success and growth of the airport\, with an important focus on the future. Attendees will hear firsthand about exciting airport developments and have the opportunity to ask questions. \nPLUS –  A behind-the-scenes tour! \nThe event will be held at BWI Marshall Airport‘s Observation Gallery.
URL:https://gbc.org/event/transportation-think-tank-shannetta-griffin-executive-director-and-ceo-bwi-marshall-airport/
LOCATION:BWI Marshall Airport\, Observation Gallery\, BWI Airport\, MD\, 21240\, United States
CATEGORIES:Main Event
END:VEVENT
BEGIN:VEVENT
DTSTART;TZID=America/New_York:20260110T090000
DTEND;TZID=America/New_York:20260110T110000
DTSTAMP:20260423T185811
CREATED:20251210T220803Z
LAST-MODIFIED:20251210T221004Z
UID:6253-1768035600-1768042800@gbc.org
SUMMARY:AGILE: Cybersecurity in a World Where Reality Can Be Faked
DESCRIPTION:Join us on February 10 at the Johns Hopkins Carey Business School. \nArtificial intelligence is reshaping not just how we protect data\, but how we define truth itself. Deepfakes\, cloned voices\, and AI-generated content are blurring the line between what’s real and what’s fabricated. \nIn this new landscape\, cybersecurity isn’t only about preventing attacks—it’s about preserving trust\, identity\, and authenticity. \n\n\n\n\n\nThis event is open to WTCI members only.
URL:https://gbc.org/event/agile-cybersecurity-in-a-world-where-reality-can-be-faked/
LOCATION:Johns Hopkins Carey Business School\, 100 International Drive\, Baltimore\, MD\, United States
CATEGORIES:Main Event
END:VEVENT
BEGIN:VEVENT
DTSTART;TZID=America/New_York:20251209T083000
DTEND;TZID=America/New_York:20251209T113000
DTSTAMP:20260423T185811
CREATED:20251021T170850Z
LAST-MODIFIED:20251203T175722Z
UID:6087-1765269000-1765279800@gbc.org
SUMMARY:Vision 2035: Building for a Better Baltimore Region
DESCRIPTION:One of GBC’s most important business gatherings of the year\, Vision 2035 will bring together federal and state officials\, CEOs\, civic leaders\, and investors to highlight the infrastructure investments and market opportunities that will drive billions of dollars in economic development across the Baltimore region. Whether you’re a major player in real estate and development or simply passionate about Baltimore’s future\, this is your opportunity to engage with the people and projects driving our future progress.  \nCamden Yards is easily accessible by public transportation. The Light RailLink stops directly at the stadium\, and the MARC Camden Line connects from Washington\, D.C.\, with a stop at Camden Station beside the ballpark.  \nSeveral CityLink and LocalLink bus routes also serve the area\, and the Charles Center Metro Subway stop is a short walk or quick transfer away.  \nFor route details and schedules\, visit the Maryland Transit Administration (MTA) at www.mta.maryland.gov. 
URL:https://gbc.org/event/vision-2035-building-for-a-better-baltimore/
LOCATION:Camden Yards\, 333 West Camden Street\, Baltimore\, Maryland\, 21201\, United States
ORGANIZER;CN="Greater Baltimore Committee":MAILTO:info@gbc.org
END:VEVENT
BEGIN:VEVENT
DTSTART;TZID=America/New_York:20251203T160000
DTEND;TZID=America/New_York:20251203T190000
DTSTAMP:20260423T185811
CREATED:20251126T153012Z
LAST-MODIFIED:20251201T190446Z
UID:6200-1764777600-1764788400@gbc.org
SUMMARY:Maryland State of the Ports & Global Flavor Showcase
DESCRIPTION:Once a year\, leaders from the Mid-Atlantic come together to learn about the challenges and opportunities at Maryland’s ports. It happens at the Annual State of the Ports & Global Flavor Showcase. Beyond getting the lowdown from port leaders\, at this event\, you will have the chance to: \n\nSample wines and food from around the world at the Global Flavor Showcase\nLearn about key challenges impacting international trade at our breakout sessions\nNetwork with the influential leaders driving economic growth in our regionhttps://wtci.org/events/state-of-the-ports/\nHear the State of the Ports address directly from Maryland’s Secretary of Transportation
URL:https://gbc.org/event/maryland-state-of-the-ports-global-flavor-showcase/
LOCATION:Baltimore Museum of Industry
CATEGORIES:Main Event
END:VEVENT
BEGIN:VEVENT
DTSTART;TZID=America/New_York:20251120T160000
DTEND;TZID=America/New_York:20251120T180000
DTSTAMP:20260423T185811
CREATED:20251010T192424Z
LAST-MODIFIED:20251111T143915Z
UID:6057-1763654400-1763661600@gbc.org
SUMMARY:GBC Quarterly All Partner Meeting
DESCRIPTION:Join us on Thursday\, November 20\, 2025 for our quarterly All-Partner Meeting. GBC Partners are invited to take part in a focused discussion with members of GBC and UpSurge Baltimore’s High-Growth + High Potential Methodologies Sub-Committee\, in celebration of Global Entrepreneurship Week (Nov 17-23). The panel will share how they are developing new frameworks to identify companies currently achieving strong growth and startups with strong growth potential. \nAttendees will also learn how GBC plans to apply these findings to strengthen support for entrepreneurs and emerging businesses and what this milestone means for the Baltimore Region’s growing innovation ecosystem.  \nAgenda \n\n4:00PM – 4:30PM – Arrival/Check-in (in-person attendees)\n4:30PM – 5:30PM – Program (hybrid)\n5:30PM – 6:30PM – Networking (in-person attendees)\n\nThis will be a hybrid event with GBC Partners welcome to join us at our office at 111 S Calvert St. or virtually. A virtual meeting link will be shared with all registrants prior to the event. The event will include a networking reception following the meeting. \nPlease reach out with any questions to partner@gbc.org.
URL:https://gbc.org/event/gbc-all-partner-meeting/
LOCATION:CFG Bank Headquarters\, 2455 House Street\, Baltimore\, Maryland\, 21230\, United States
CATEGORIES:Main Event
ORGANIZER;CN="Greater Baltimore Committee":MAILTO:info@gbc.org
END:VEVENT
BEGIN:VEVENT
DTSTART;TZID=America/New_York:20251119T160000
DTEND;TZID=America/New_York:20251119T180000
DTSTAMP:20260423T185811
CREATED:20251009T134300Z
LAST-MODIFIED:20251009T173210Z
UID:6017-1763568000-1763575200@gbc.org
SUMMARY:Baltimore Region Economic Brand Workshop
DESCRIPTION:GBC Partners are invited to help us in telling a dynamic new economic story for the Baltimore Region. Come and learn more about the Regional Brand initiative and how GBC Partners can participate in shaping a narrative that highlights the Baltimore Region’s continued civic progress and strengths in both emerging and lighthouse sectors. \nThis session will be held in person at the GBC office and will be followed by a reception.
URL:https://gbc.org/event/baltimore-region-economic-brand-workshop-9/
LOCATION:Greater Baltimore Committee\, 111 South Calvert Street\, Baltimore\, MD\, 21202\, United States
ORGANIZER;CN="Greater Baltimore Committee":MAILTO:info@gbc.org
END:VEVENT
BEGIN:VEVENT
DTSTART;TZID=America/New_York:20251104T160000
DTEND;TZID=America/New_York:20251104T180000
DTSTAMP:20260423T185811
CREATED:20251009T132759Z
LAST-MODIFIED:20251028T134920Z
UID:6010-1762272000-1762279200@gbc.org
SUMMARY:Prospective Partner Briefing
DESCRIPTION:Join the Greater Baltimore Committee (GBC) on Tuesday\, November 4\, 2025\, from 4:00–6:00 PM for a Prospective Partner Meeting designed for organizations interested in learning more about the GBC and how to engage with our work across the Baltimore region. \nFrom 4:00–5:00 PM\, attendees will hear an overview of the GBC’s mission\, key initiatives\, and partnership opportunities. From 5:00–6:00 PM\, enjoy a networking happy hour with GBC staff and fellow business leaders.
URL:https://gbc.org/event/prospective-partner-briefing/
LOCATION:Greater Baltimore Committee\, 111 South Calvert Street\, Baltimore\, MD\, 21202\, United States
ORGANIZER;CN="Greater Baltimore Committee":MAILTO:info@gbc.org
END:VEVENT
BEGIN:VEVENT
DTSTART;TZID=America/New_York:20251103T170000
DTEND;TZID=America/New_York:20251103T200000
DTSTAMP:20260423T185811
CREATED:20251020T124717Z
LAST-MODIFIED:20251020T124748Z
UID:6078-1762189200-1762200000@gbc.org
SUMMARY:Leading with Purpose\, Passion and Power: A Fireside Chat with Lisa Clyde
DESCRIPTION:The Baltimore Women and Allies Board (BWAB) invites you to an evening with Lisa Clyde\, Co-Head of Global Capital Markets at BofA Securities. A leader in global finance and a longtime advocate for opportunity and inclusion\, Lisa will share insights from her career and lessons on leadership in a fireside chat moderated by Janet Currie\, President\, Bank of America Greater Maryland. \nJoin us for networking\, conversation\, and connection with peers across industries. \n 
URL:https://gbc.org/event/leading-with-purpose-passion-and-power-a-fireside-chat-with-lisa-clyde/
LOCATION:Merritt Properties\, 6518 Meadowridge Road\, Elkridge\, MD\, 21075\, United States
ORGANIZER;CN="Greater Baltimore Committee":MAILTO:info@gbc.org
END:VEVENT
BEGIN:VEVENT
DTSTART;TZID=America/New_York:20251030T093000
DTEND;TZID=America/New_York:20251030T103000
DTSTAMP:20260423T185811
CREATED:20251009T132344Z
LAST-MODIFIED:20251009T172926Z
UID:6005-1761816600-1761820200@gbc.org
SUMMARY:Partner Conversations: BWI Marshall Airport CEO Shannetta Griffin
DESCRIPTION:GBC is excited to host BWI Marshall Airport President & CEO Shannetta Griffin for an exclusive conversation with GBC Partners. In this session\, Ms. Griffin will share her vision for BWI Marshall Airport and engage in a dialogue on the airport’s expanding role in advancing regional economic development\, business connectivity\, and infrastructure investment. \nThis partner-only event offers a rare opportunity to hear directly from BWI Marshall’s new leadership and explore how the business community can collaborate to strengthen the airport’s impact across the Baltimore region. \nIn-person at the GBC Office. \nIf you have any specific questions please reach out to partner@gbc.org
URL:https://gbc.org/event/partner-conversations-bwi-marshall-airport-ceo-shannetta-griffin/
LOCATION:Greater Baltimore Committee\, 111 South Calvert Street\, Baltimore\, MD\, 21202\, United States
ORGANIZER;CN="Greater Baltimore Committee":MAILTO:info@gbc.org
END:VEVENT
BEGIN:VEVENT
DTSTART;TZID=America/New_York:20251021T120000
DTEND;TZID=America/New_York:20251021T130000
DTSTAMP:20260423T185811
CREATED:20250529T144013Z
LAST-MODIFIED:20251003T163704Z
UID:5124-1761048000-1761051600@gbc.org
SUMMARY:Baltimore Region Economic Brand Workshop
DESCRIPTION:GBC Partners are invited to help us in telling a dynamic new economic story for the Baltimore Region. Come and learn more about the Regional Brand initiative and how GBC Partners can participate in shaping a narrative that highlights the Baltimore Region’s continued civic progress and strengths in both emerging and lighthouse sectors. \nA virtual meeting link will be distributed to all registrants the day prior to the event.
URL:https://gbc.org/event/baltimore-region-economic-brand-workshop-8/
LOCATION:MD
CATEGORIES:Presentation
END:VEVENT
BEGIN:VEVENT
DTSTART;TZID=America/New_York:20251001T120000
DTEND;TZID=America/New_York:20251001T133000
DTSTAMP:20260423T185811
CREATED:20250909T222948Z
LAST-MODIFIED:20250929T155639Z
UID:5575-1759320000-1759325400@gbc.org
SUMMARY:Maryland Competitiveness Briefing with CNBC Special Correspondent Scott Cohn
DESCRIPTION:Partner-Only Event – Register to Attend\n \nYou’re invited to a special Maryland Competitiveness Briefing hosted by the Greater Baltimore Committee featuring CNBC Special Correspondent Scott Cohn\, responsible for developing the 2024 CNBC Top States for Business rankings. \nWhat to Expect: \nScott Cohn will provide an inside look at CNBC’s latest national rankings\, including: \n\nMethodology behind the 2024 Top States for Business report\nHow Maryland ranks across key categories such as Workforce\, Infrastructure\, Technology & Innovation\, and Quality of Life\nEmerging trends in national competitiveness\nActionable insights to help inform local and regional economic strategies\n\nThe session will also feature GBC leadership. \nWhy It Matters: \nThis event is part of GBC’s broader commitment to advancing Maryland’s economic competitiveness. With CNBC’s rankings setting the national conversation\, this dialogue will help shape priorities and strategies across the region. \nWe hope you will join us for this important conversation. \nRegister today to secure your spot.
URL:https://gbc.org/event/gbc-partner-conversation-maryland-competitiveness-briefing-with-cnbc-reporter-scott-cohn/
LOCATION:MD
END:VEVENT
BEGIN:VEVENT
DTSTART;TZID=America/New_York:20250930T153000
DTEND;TZID=America/New_York:20250930T170000
DTSTAMP:20260423T185811
CREATED:20250909T150559Z
LAST-MODIFIED:20250909T154616Z
UID:5565-1759246200-1759251600@gbc.org
SUMMARY:September All-Partner Meeting
DESCRIPTION:Partner-Only Event – Register to Attend\n \nJoin us on Tuesday\, September 30th for our quarterly All-Partner Meeting. This quarter’s gathering focuses on shaping Baltimore’s regional brand narrative through GBC’s Bold Moves Ambassador Program. We’ll hear about the next steps in the program’s rollout from GBC President and CEO\, Mark Anthony Thomas with a focus on how your organization can become a regional brand ambassador. \nAgenda \n\n3:30PM – 4:00PM – Arrival/Check-in (in-person attendees)\n4:00PM – 5:00PM – Program (hybrid)\n5:00PM – 6:00PM – Networking (in-person attendees)\n\nThis will be a hybrid event with GBC Partners welcome to join us at our office at 111 S Calvert St. or virtually. A virtual meeting link will be shared with all registrants prior to the event. The event will include a networking reception following the meeting. \nPlease reach out with any questions to partner@gbc.org.
URL:https://gbc.org/event/september-all-partner-meeting/
LOCATION:MD
END:VEVENT
BEGIN:VEVENT
DTSTART;TZID=America/New_York:20250925T110000
DTEND;TZID=America/New_York:20250925T123000
DTSTAMP:20260423T185811
CREATED:20250922T170131Z
LAST-MODIFIED:20250922T170131Z
UID:5627-1758798000-1758803400@gbc.org
SUMMARY:GBC Briefing: Baltimore Region Economic Investment
DESCRIPTION:Open to the Public – Register Today!\n \nJoin GBC’s Chief Economic Officer\, Lakey Boyd for a conversation on how we’re evolving GBC’s Regional Economic Investment work and what you can expect from this next chapter. We will provide an overview of how the prospect pipeline functions and the state-level players’ role\, as well as the GBC Economic Investment team’s collaboration. \nGBC Briefing: Baltimore Region Economic Investment \n\nDate: Thursday\, September 25\, 2025\nTime: 11:00 AM –12:30 PM\nLocation: Hybrid; GBC Boardroom and Microsoft Teams\n\nThis will be a hybrid event with interested attendees welcome to join us at our office at 111 S Calvert St. or virtually. A virtual meeting link will be shared with all registrants prior to the event. A light lunch will be provided. \nPlease reach out with any questions to partner@gbc.org.
URL:https://gbc.org/event/gbc-briefing-baltimore-region-economic-investment/
LOCATION:Greater Baltimore Committee\, 111 South Calvert Street\, Baltimore\, MD\, 21202\, United States
CATEGORIES:Presentation
ORGANIZER;CN="Greater Baltimore Committee":MAILTO:info@gbc.org
END:VEVENT
BEGIN:VEVENT
DTSTART;TZID=America/New_York:20250716T120000
DTEND;TZID=America/New_York:20250716T130000
DTSTAMP:20260423T185811
CREATED:20250529T142648Z
LAST-MODIFIED:20250529T142648Z
UID:5118-1752667200-1752670800@gbc.org
SUMMARY:Baltimore Region Economic Brand Workshop
DESCRIPTION:GBC Partners are invited to help us in telling a dynamic new economic story for the Baltimore Region. Come and learn more about the Regional Brand initiative and how GBC Partners can participate in shaping a narrative that highlights the Baltimore Region’s continued civic progress and strengths in both emerging and lighthouse sectors. \nA virtual meeting link will be distributed to all registrants the day prior to the event. \nRegister here. 
URL:https://gbc.org/event/baltimore-region-economic-brand-workshop-6/
LOCATION:MD
END:VEVENT
BEGIN:VEVENT
DTSTART;TZID=America/New_York:20250710T120000
DTEND;TZID=America/New_York:20250710T130000
DTSTAMP:20260423T185811
CREATED:20250529T142252Z
LAST-MODIFIED:20250529T142317Z
UID:5115-1752148800-1752152400@gbc.org
SUMMARY:Baltimore Region Economic Brand Workshop
DESCRIPTION:GBC Partners are invited to help us in telling a dynamic new economic story for the Baltimore Region. Come and learn more about the Regional Brand initiative and how GBC Partners can participate in shaping a narrative that highlights the Baltimore Region’s continued civic progress and strengths in both emerging and lighthouse sectors. \nA virtual meeting link will be distributed to all registrants the day prior to the event. \nRegister here.
URL:https://gbc.org/event/baltimore-region-economic-brand-workshop-5/
LOCATION:MD
END:VEVENT
BEGIN:VEVENT
DTSTART;TZID=America/New_York:20250626T160000
DTEND;TZID=America/New_York:20250626T180000
DTSTAMP:20260423T185811
CREATED:20250529T140332Z
LAST-MODIFIED:20250623T141556Z
UID:5113-1750953600-1750960800@gbc.org
SUMMARY:Baltimore Region Economic Brand Workshop
DESCRIPTION:GBC Partners are invited to help us in telling a dynamic new economic story for the Baltimore Region. Come and learn more about the Regional Brand initiative and how GBC Partners can participate in shaping a narrative that highlights the Baltimore Region’s continued civic progress and strengths in both emerging and lighthouse sectors. \nThis session will be held in person at the GBC office and will be followed by a reception. \nRegister here. 
URL:https://gbc.org/event/baltimore-region-economic-brand-workshop-4/
LOCATION:MD
END:VEVENT
BEGIN:VEVENT
DTSTART;TZID=America/New_York:20250618T120000
DTEND;TZID=America/New_York:20250618T130000
DTSTAMP:20260423T185811
CREATED:20250529T140029Z
LAST-MODIFIED:20250603T150119Z
UID:5110-1750248000-1750251600@gbc.org
SUMMARY:Baltimore Region Economic Brand Workshop
DESCRIPTION:GBC Partners are invited to help us in telling a dynamic new economic story for the Baltimore Region. Come and learn more about the Regional Brand initiative and how GBC Partners can participate in shaping a narrative that highlights the Baltimore Region’s continued civic progress and strengths in both emerging and lighthouse sectors. \nA virtual meeting link will be distributed to all registrants the day prior to the event. \nRegister here.
URL:https://gbc.org/event/baltimore-region-economic-brand-workshop-3/
LOCATION:MD
END:VEVENT
BEGIN:VEVENT
DTSTART;TZID=America/New_York:20250612T120000
DTEND;TZID=America/New_York:20250612T130000
DTSTAMP:20260423T185811
CREATED:20250529T135736Z
LAST-MODIFIED:20250529T135844Z
UID:5106-1749729600-1749733200@gbc.org
SUMMARY:Baltimore Region Economic Brand Workshop
DESCRIPTION:GBC Partners are invited to help us in telling a dynamic new economic story for the Baltimore Region. Come and learn more about the Regional Brand initiative and how GBC Partners can participate in shaping a narrative that highlights the Baltimore Region’s continued civic progress and strengths in both emerging and lighthouse sectors. \nA virtual meeting link will be distributed to all registrants the day prior to the event. \nRegister here.
URL:https://gbc.org/event/baltimore-region-economic-brand-workshop/
LOCATION:MD
END:VEVENT
BEGIN:VEVENT
DTSTART;TZID=America/New_York:20250610T180000
DTEND;TZID=America/New_York:20250610T200000
DTSTAMP:20260423T185811
CREATED:20250602T183451Z
LAST-MODIFIED:20250602T183451Z
UID:5138-1749578400-1749585600@gbc.org
SUMMARY:Equitech Tuesday #204: Evening with Esos
DESCRIPTION:Join us for Equitech Tuesday #204: Evening with Esos at GBC headquarters.
URL:https://gbc.org/event/equitech-tuesday-204-evening-with-esos/
LOCATION:Greater Baltimore Committee\, 111 South Calvert Street\, Baltimore\, MD\, 21202\, United States
END:VEVENT
BEGIN:VEVENT
DTSTART;TZID=America/New_York:20250603T180000
DTEND;TZID=America/New_York:20250603T200000
DTSTAMP:20260423T185811
CREATED:20250602T183123Z
LAST-MODIFIED:20250602T183123Z
UID:5133-1748973600-1748980800@gbc.org
SUMMARY:Equitech Tuesday #203: University of Baltimore AI Summit
DESCRIPTION:Join us for Equitech Tuesday #203: University of Baltimore AI Summit at the Brass Tap.
URL:https://gbc.org/event/equitech-tuesday-203-university-of-baltimore-ai-summit/
LOCATION:Brass Tap\, 1205 W Mt. Royal Avenue\, Baltimore\, Maryland\, 21217
ORGANIZER;CN="Greater Baltimore Committee":MAILTO:info@gbc.org
END:VEVENT
BEGIN:VEVENT
DTSTART;TZID=America/New_York:20250507T120000
DTEND;TZID=America/New_York:20250507T130000
DTSTAMP:20260423T185811
CREATED:20250520T191023Z
LAST-MODIFIED:20250520T191023Z
UID:5048-1746619200-1746622800@gbc.org
SUMMARY:Baltimore Region Economic Brand Workshop #2
DESCRIPTION:GBC Partners are invited to help us in telling a dynamic new economic story for the Baltimore Region. Come and learn more about the Regional Brand initiative and how GBC Partners can participate in shaping a narrative that highlights the Baltimore Region’s continued civic progress and strengths in both emerging and lighthouse sectors. \nA virtual meeting link will be distributed to all registrants the day prior to the event.
URL:https://gbc.org/event/baltimore-region-economic-brand-workshop-2/
LOCATION:Greater Baltimore Committee\, 111 South Calvert Street\, Baltimore\, MD\, 21202\, United States
ORGANIZER;CN="Greater Baltimore Committee":MAILTO:info@gbc.org
END:VEVENT
BEGIN:VEVENT
DTSTART;TZID=America/New_York:20250502T120000
DTEND;TZID=America/New_York:20250502T130000
DTSTAMP:20260423T185811
CREATED:20250520T190843Z
LAST-MODIFIED:20250520T190843Z
UID:5047-1746187200-1746190800@gbc.org
SUMMARY:Baltimore Region Economic Brand Workshop #1
DESCRIPTION:GBC Partners are invited to help us in telling a dynamic new economic story for the Baltimore Region. Come and learn more about the Regional Brand initiative and how GBC Partners can participate in shaping a narrative that highlights the Baltimore Region’s continued civic progress and strengths in both emerging and lighthouse sectors. \nA virtual meeting link will be distributed to all registrants the day prior to the event.
URL:https://gbc.org/event/baltimore-region-economic-brand-workshop-1/
LOCATION:Greater Baltimore Committee\, 111 South Calvert Street\, Baltimore\, MD\, 21202\, United States
ORGANIZER;CN="Greater Baltimore Committee":MAILTO:info@gbc.org
END:VEVENT
BEGIN:VEVENT
DTSTART;TZID=America/New_York:20250501T120000
DTEND;TZID=America/New_York:20250501T130000
DTSTAMP:20260423T185811
CREATED:20250520T190746Z
LAST-MODIFIED:20250520T190746Z
UID:5046-1746100800-1746104400@gbc.org
SUMMARY:Legislative Session Recap and Policy Discussion
DESCRIPTION:With Maryland’s legislative session now behind us\, GBC will host a briefing to review the outcomes of the Maryland legislative session. Join GBC staff on Thursday\, May 1st 12:00-1:00pm for a discussion on the legislative landscape and the impact of both state and federal policy on the Baltimore Region in the year to come. \nPlease note that this briefing is for GBC Partners only\, to confirm if your organization is a partner of GBC please reference: https://gbc.org/partners/​ \nA virtual link will be shared with all GBC Partner registrants prior to the meeting date.
URL:https://gbc.org/event/legislative-session-recap-and-policy-discussion/
LOCATION:MD
END:VEVENT
END:VCALENDAR